BEGIN:VCALENDAR
VERSION:2.0
PRODID:-//Quail Run Golf Course - ECPv6.15.18//NONSGML v1.0//EN
CALSCALE:GREGORIAN
METHOD:PUBLISH
X-ORIGINAL-URL:https://www.quailrungolf.com
X-WR-CALDESC:Events for Quail Run Golf Course
REFRESH-INTERVAL;VALUE=DURATION:PT1H
X-Robots-Tag:noindex
X-PUBLISHED-TTL:PT1H
BEGIN:VTIMEZONE
TZID:America/Chicago
BEGIN:DAYLIGHT
TZOFFSETFROM:-0600
TZOFFSETTO:-0500
TZNAME:CDT
DTSTART:20250309T080000
END:DAYLIGHT
BEGIN:STANDARD
TZOFFSETFROM:-0500
TZOFFSETTO:-0600
TZNAME:CST
DTSTART:20251102T070000
END:STANDARD
BEGIN:DAYLIGHT
TZOFFSETFROM:-0600
TZOFFSETTO:-0500
TZNAME:CDT
DTSTART:20260308T080000
END:DAYLIGHT
BEGIN:STANDARD
TZOFFSETFROM:-0500
TZOFFSETTO:-0600
TZNAME:CST
DTSTART:20261101T070000
END:STANDARD
BEGIN:DAYLIGHT
TZOFFSETFROM:-0600
TZOFFSETTO:-0500
TZNAME:CDT
DTSTART:20270314T080000
END:DAYLIGHT
BEGIN:STANDARD
TZOFFSETFROM:-0500
TZOFFSETTO:-0600
TZNAME:CST
DTSTART:20271107T070000
END:STANDARD
END:VTIMEZONE
BEGIN:VEVENT
DTSTART;TZID=America/Chicago:20260810T120000
DTEND;TZID=America/Chicago:20260810T180000
DTSTAMP:20260422T005612
CREATED:20260306T161204Z
LAST-MODIFIED:20260306T161205Z
UID:10002140-1786363200-1786384800@www.quailrungolf.com
SUMMARY:CATTLEMEN (QR218)
DESCRIPTION:Monday\, August 10th\, 2026\n2:00 Shotgun Start
URL:https://www.quailrungolf.com/calendar/cattlemen-qr218/
LOCATION:Quail Run GC\, 327 SOUTH 5TH STREET\, Columbus\, NE\, 68601\, United States
ORGANIZER;CN="Braden Wilke":MAILTO:bwilke2015@gmail.com
END:VEVENT
END:VCALENDAR